BEGIN:VCALENDAR
VERSION:2.0
PRODID:-//Squarespace Inc/Squarespace 6//v6//EN
BEGIN:VEVENT
UID:57f606e703596ecbbbe0446f@squarespace.com
DTSTAMP:20161006T085728Z
DTSTART:20160908T130000Z
DTEND:20160911T220000Z
SUMMARY:Panel on the rights of women human rights defenders and minority co
 nstituencies within the Treaty on BHR 
GEO:-12.987928;-38.447563
LOCATION:Costa do Saouípe\, Bahia\, Brazil
END:VEVENT
END:VCALENDAR
