BEGIN:VCALENDAR
VERSION:2.0
PRODID:-//Squarespace Inc/Squarespace 6//v6//EN
BEGIN:VEVENT
UID:57f6126c46c3c4434460234a@squarespace.com
DTSTAMP:20161006T090356Z
DTSTART:20160705T170000Z
DTEND:20160705T200000Z
SUMMARY:Public consultation on South African perspectives on the UN Treaty 
 on BRH
GEO:-25.747868;28.229271
LOCATION:Pretoria\, South Africa
END:VEVENT
END:VCALENDAR
