BEGIN:VCALENDAR
VERSION:2.0
PRODID:-//Squarespace Inc/Squarespace 6//v6//EN
BEGIN:VEVENT
UID:57f610b46b8f5bd3837d3bdd@squarespace.com
DTSTAMP:20161006T085701Z
DTSTART:20160704T120000Z
DTEND:20160704T130000Z
SUMMARY:Panel discussion on the UN process towards a Binding Treaty on BHR
GEO:13.660951;-89.172981
LOCATION:San Marcos\, El Salvador
END:VEVENT
END:VCALENDAR
