BEGIN:VCALENDAR
VERSION:2.0
PRODID:-//Squarespace Inc/Squarespace 6//v6//EN
BEGIN:VEVENT
UID:57f614766b8f5bd3837d4503@squarespace.com
DTSTAMP:20161006T091056Z
DTSTART:20160530T130000Z
DTEND:20160531T210000Z
SUMMARY:Legal seminar on options for enforcement mechanisms for the Treaty 
 linked to access to justice.
GEO:50.85034;4.35171
LOCATION:Brussels\, Belgium
END:VEVENT
END:VCALENDAR
