BEGIN:VCALENDAR
VERSION:2.0
PRODID:-//Squarespace Inc/Squarespace 6//v6//EN
BEGIN:VEVENT
UID:57f60f58f5e2311b1e55d4aa@squarespace.com
DTSTAMP:20161006T090342Z
DTSTART:20160530T210000Z
DTEND:20160601T000000Z
SUMMARY: HEARING AT THE EUROPEAN PARLIAMENT 17.00 - 20.00
GEO:50.85034;4.35171
LOCATION:Brussels\, Belgium
END:VEVENT
END:VCALENDAR
