BEGIN:VCALENDAR
VERSION:2.0
PRODID:-//Squarespace Inc/Squarespace 6//v6//EN
BEGIN:VEVENT
UID:57f617a01b631b26a8c1b37c@squarespace.com
DTSTAMP:20161019T102610Z
DTSTART:20161027T170000Z
DTEND:20161027T183000Z
SUMMARY:Global Campaign to Dismantle Corporate Power (Part 2)
GEO:46.204391;6.143158
LOCATION:Geneva\, Switzerland
END:VEVENT
END:VCALENDAR
