BEGIN:VCALENDAR
VERSION:2.0
PRODID:-//Squarespace Inc/Squarespace 6//v6//EN
BEGIN:VEVENT
UID:57f618fa46c3c443446031a7@squarespace.com
DTSTAMP:20161019T102905Z
DTSTART:20161028T170000Z
DTEND:20161028T183000Z
SUMMARY:Treaty Alliance Joint Event at the 2nd IGWG Session
GEO:46.204391;6.143158
LOCATION:Geneva\, Switzerland
END:VEVENT
END:VCALENDAR
