BEGIN:VCALENDAR
VERSION:2.0
PRODID:-//Squarespace Inc/Squarespace 6//v6//EN
BEGIN:VEVENT
UID:5806489f37c5816cadfec162@squarespace.com
DTSTAMP:20161019T102340Z
DTSTART:20161026T170000Z
DTEND:20161026T183000Z
SUMMARY:African Regional and International Legal Perspectives on the Releva
 nce of the Human Right to Development and Customary Communities to the Bin
 ding Instrument 
END:VEVENT
END:VCALENDAR
