BEGIN:VCALENDAR
VERSION:2.0
PRODID:-//Squarespace Inc/Squarespace 6//v6//EN
BEGIN:VEVENT
UID:57f616a837c5817461572f2d@squarespace.com
DTSTAMP:20161019T102235Z
DTSTART:20161025T170000Z
DTEND:20161025T183000Z
SUMMARY:Global Campaign to Dismantle Corporate Power (Part 1) 
GEO:46.204391;6.143158
LOCATION:Geneva\,\, Switzerland
END:VEVENT
END:VCALENDAR
