BEGIN:VCALENDAR
VERSION:2.0
PRODID:-//Squarespace Inc/Squarespace 6//v6//EN
BEGIN:VEVENT
UID:58062e82b3db2bc915774876@squarespace.com
DTSTAMP:20161018T142611Z
DTSTART:20161025T170000Z
DTEND:20161025T190000Z
SUMMARY:A TREATY ON BUSINESS AND HUMAN RIGHTS: A ROUND-TABLE DISCUSSION 
GEO:46.204391;6.143158
LOCATION:Geneva\, Switzerland
END:VEVENT
END:VCALENDAR
