BEGIN:VCALENDAR
VERSION:2.0
PRODID:-//Squarespace Inc/Squarespace 6//v6//EN
BEGIN:VEVENT
UID:5806254f6a49631c9a03fd28@squarespace.com
DTSTAMP:20161020T122320Z
DTSTART:20161024T193000Z
DTEND:20161024T203000Z
SUMMARY:Press Briefing
GEO:46.204391;6.143158
LOCATION:Geneva\, Switzerland
END:VEVENT
END:VCALENDAR
