BEGIN:VCALENDAR
VERSION:2.0
PRODID:-//Squarespace Inc/Squarespace 6//v6//EN
BEGIN:VEVENT
UID:57f7825fbe6594780b941bea@squarespace.com
DTSTAMP:20161014T130221Z
DTSTART:20161024T170000Z
DTEND:20161024T184500Z
SUMMARY: ESCR-net & fidh 2nd IGWG side event: Who is the treaty for?
GEO:46.204391;6.143158
LOCATION:Geneva\, Switzerland
END:VEVENT
END:VCALENDAR
