BEGIN:VCALENDAR
VERSION:2.0
PRODID:-//Squarespace Inc/Squarespace 6//v6//EN
BEGIN:VEVENT
UID:5806444b4402432db9cb5cac@squarespace.com
DTSTAMP:20161021T094603Z
DTSTART:20161024T173000Z
DTEND:20161024T190000Z
SUMMARY:Corporate accountability precedents from the world health organizat
 ion framework on Tobacco control (WHO FCTC) and its implications to the bi
 nding treaty on TNCs and human rights 
END:VEVENT
END:VCALENDAR
