BEGIN:VCALENDAR
VERSION:2.0
PRODID:-//Squarespace Inc/Squarespace 6//v6//EN
BEGIN:VEVENT
UID:58062491414fb5c7632cab28@squarespace.com
DTSTAMP:20161019T120216Z
DTSTART:20161024T223000Z
DTEND:20161025T003000Z
SUMMARY:Calling for constructive dialogue and joint action - Evening Event
GEO:46.204391;6.143158
LOCATION:Geneva\, Switzerland
END:VEVENT
END:VCALENDAR
