BEGIN:VCALENDAR
VERSION:2.0
PRODID:-//Squarespace Inc/Squarespace 6//v6//EN
BEGIN:VEVENT
UID:57f60477725e25b359b88e56@squarespace.com
DTSTAMP:20161007T105929Z
DTSTART:20161024T130000Z
DTEND:20161028T220000Z
SUMMARY:2nd IGWG Session - Geneva
GEO:46.204391;6.143158
LOCATION:Geneva\, Switzerland
END:VEVENT
END:VCALENDAR
