BEGIN:VCALENDAR
VERSION:2.0
PRODID:-//Squarespace Inc/Squarespace 6//v6//EN
BEGIN:VEVENT
UID:580645706a49631c9a059238@squarespace.com
DTSTAMP:20161018T155853Z
DTSTART:20161026T170000Z
DTEND:20161026T190000Z
SUMMARY:Ensure the full exercise of human rights in Brazil and the access t
 o justice for people affected by transnational companies’ operations
END:VEVENT
END:VCALENDAR
