BEGIN:VCALENDAR
VERSION:2.0
PRODID:-//Squarespace Inc/Squarespace 6//v6//EN
BEGIN:VEVENT
UID:5806452ef5e23169037c6962@squarespace.com
DTSTAMP:20161021T090328Z
DTSTART:20161025T223000Z
DTEND:20161026T003000Z
SUMMARY:Corporate influence and accountability in the UN – Current trends i
 n the Governance of Business and Human Rights\, Global Health\, Agricultur
 e\, Food and Nutrition
END:VEVENT
END:VCALENDAR
