BEGIN:VCALENDAR
VERSION:2.0
PRODID:-//Squarespace Inc/Squarespace 6//v6//EN
BEGIN:VEVENT
UID:5f91b20a83851c7382ef707a@squarespace.com
DTSTAMP:20201022T162724Z
DTSTART:20201026T163000Z
DTEND:20201030T173000Z
SUMMARY:Sixth session of the open-ended intergovernmental working group on 
 transnational corporations and other business enterprises with respect to 
 human rights
END:VEVENT
END:VCALENDAR
